BEGIN:VCALENDAR
VERSION:2.0
PRODID:gruene-bergrheinfeld.de
METHOD:PUBLISH
BEGIN:VTIMEZONE
TZID:Europe/Berlin
X-LIC-LOCATION:Europe/Berlin
BEGIN:DAYLIGHT
TZOFFSETFROM:+0100
TZOFFSETTO:+0200
TZNAME:CEST
DTSTART:19700329T020000
RRULE:FREQ=YEARLY;INTERVAL=1;BYDAY=-1SU;BYMONTH=3
END:DAYLIGHT
BEGIN:STANDARD
TZOFFSETFROM:+0200
TZOFFSETTO:+0100
TZNAME:CET
DTSTART:19701025T030000
RRULE:FREQ=YEARLY;INTERVAL=1;BYDAY=-1SU;BYMONTH=10
END:STANDARD
END:VTIMEZONE
BEGIN:VEVENT
UID:f8e2dfb7152757eb618e67c37820e588@gruene-bergrheinfeld.de
URL;VALUE=URI:https://gruene-bergrheinfeld.de/termine/neujahrsempfang-mit
 -claudia-roth-am-24-januar/
LOCATION:Engelbert-Fries-Str. 14, SW-Oberndorf
SUMMARY:Neujahrsempfang mit CLAUDIA ROTH im Januar
DESCRIPTION;ALTREP="data:text/html,Am%2024.01.2020%20um%2018%3A00%20Uhr%2
 0findet%20der%20Neujahrsempfang%20des%20gr%C3%BCnen%20Kreisverbands%20im%
 20Pfarrsaal%20St.%20Josef%20in%20Oberndorf%20statt.%0A%0ACLAUDIA%20ROTH%2
 0wird%20den%20Abend%20mit%20uns%20verbringen.%0A%0AInteressierte%20sind%2
 0nat%C3%BCrlich%20wie%20immer%20herzlich%20willkommen%21%0A%0A%26nbsp%3B%
 0A%0AAdresse%3A%0A%0APfarrsaal%20St.%20Josef%0A%0AEngelbert-Fries-Str.%20
 14%0A%0ASW-Oberndorf":Am 24.01.2020 um 18:00 Uhr findet der Neujahrsempfa
 ng des grünen Kreisverbands im Pfarrsaal St. Josef in Oberndorf statt.\n
 \nCLAUDIA ROTH wird den Abend mit uns verbringen.\n\nInteressierte sind n
 atürlich wie immer herzlich willkommen!\n\n \n\nAdresse:\n\nPfarrsaal S
 t. Josef\n\nEngelbert-Fries-Str. 14\n\nSW-Oberndorf
CLASS:PUBLIC
DTSTART;TZID=Europe/Berlin:20200124T180000
DTEND;TZID=Europe/Berlin:20200124T220000
DTSTAMP:20260424T050939
END:VEVENT
END:VCALENDAR