BEGIN:VCALENDAR
VERSION:2.0
PRODID:gruene-bergrheinfeld.de
METHOD:PUBLISH
BEGIN:VTIMEZONE
TZID:Europe/Berlin
X-LIC-LOCATION:Europe/Berlin
BEGIN:DAYLIGHT
TZOFFSETFROM:+0100
TZOFFSETTO:+0200
TZNAME:CEST
DTSTART:19700329T020000
RRULE:FREQ=YEARLY;INTERVAL=1;BYDAY=-1SU;BYMONTH=3
END:DAYLIGHT
BEGIN:STANDARD
TZOFFSETFROM:+0200
TZOFFSETTO:+0100
TZNAME:CET
DTSTART:19701025T030000
RRULE:FREQ=YEARLY;INTERVAL=1;BYDAY=-1SU;BYMONTH=10
END:STANDARD
END:VTIMEZONE
BEGIN:VEVENT
UID:3769b9e1fe1d3856170ac0c8f3e92435@gruene-bergrheinfeld.de
URL;VALUE=URI:https://gruene-bergrheinfeld.de/termine/informations-und-wa
 hlkampfstaende-zur-lt-und-bt-wahl/
LOCATION:Grünes Büro, Rückertstraße 23, Schweinfurt
SUMMARY:Informations- und Wahlkampfstände zur LT und BT Wahl
DESCRIPTION;ALTREP="data:text/html,%0A%3Cp%3E%3Cstrong%3EAb%20Freitag%204
 .%20August%20und%20bis%20zur%20Landtags%20und%20Bezirkstagswahl%20am%2008
 .10.%20%3A%20%3C%2Fstrong%3E%3C%2Fp%3E%0A%0A%0A%0A%3Cp%3E%3Cstrong%3EInfo
 -%20und%20Wahlkampfst%C3%A4nde%3C%2Fstrong%3E%3C%2Fp%3E%0A%0A%0A%0A%3Cp%3
 E%3Cstrong%3EWo%3A%20Vor%20dem%20Gr%C3%BCnen%20B%C3%BCro%20in%20der%20Sta
 dt%3C%2Fstrong%3E%20Schweinfurt%3Cbr%3E%3Cstrong%3EWann%3A%20Freitag%2014
 %20-%2018%20Uhr%2C%20Samstag%2010%20-%2014%20Uhr%3C%2Fstrong%3E%3C%2Fp%3E
 %0A":Ab Freitag 4. August und bis zur Landtags und Bezirkstagswahl am 08.
 10. :\n\nInfo- und Wahlkampfstände\n\nWo: Vor dem Grünen Büro in der S
 tadt SchweinfurtWann: Freitag 14 - 18 Uhr\, Samstag 10 - 14 Uhr
CLASS:PUBLIC
DTSTART;TZID=Europe/Berlin:20230922T140000
DTEND;TZID=Europe/Berlin:20230922T180000
DTSTAMP:20260424T002526
END:VEVENT
END:VCALENDAR