BEGIN:VCALENDAR
VERSION:2.0
PRODID:gruene-bergrheinfeld.de
METHOD:PUBLISH
BEGIN:VTIMEZONE
TZID:Europe/Berlin
X-LIC-LOCATION:Europe/Berlin
BEGIN:DAYLIGHT
TZOFFSETFROM:+0100
TZOFFSETTO:+0200
TZNAME:CEST
DTSTART:19700329T020000
RRULE:FREQ=YEARLY;INTERVAL=1;BYDAY=-1SU;BYMONTH=3
END:DAYLIGHT
BEGIN:STANDARD
TZOFFSETFROM:+0200
TZOFFSETTO:+0100
TZNAME:CET
DTSTART:19701025T030000
RRULE:FREQ=YEARLY;INTERVAL=1;BYDAY=-1SU;BYMONTH=10
END:STANDARD
END:VTIMEZONE
BEGIN:VEVENT
UID:f9c4684fad246129d8d530b9ad2e6461@gruene-bergrheinfeld.de
URL;VALUE=URI:https://gruene-bergrheinfeld.de/termine/einladung-zur-regio
 plus-challenge/
LOCATION:Siebenäckerhof, Niederwerrn
SUMMARY:Einladung zur Regioplus-Challenge
DESCRIPTION;ALTREP="data:text/html,%0A%3Cfigure%20class%3D%22wp-block-ima
 ge%20size-large%22%3E%3Cimg%20src%3D%22https%3A%2F%2Fwordpress67.gcms.ver
 digado.net%2Fgruene-bergrheinfeld%2Fwp-content%2Fuploads%2F2023%2F09%2FRe
 gioplus-Challenge-800x424.jpg%22%20alt%3D%22%22%20class%3D%22wp-image-423
 %22%20%2F%3E%3C%2Ffigure%3E%0A%0A%0A%0A%3Cp%3EBei%20der%20%3Cstrong%3EReg
 ioplus-Challenge%3C%2Fstrong%3E%20handelt%20es%20sich%20um%20eine%20Aktio
 n%20der%20%C3%96ko-Modellregion%20Oberes%20Werntal%2C%20die%20wir%20richt
 ig%20gut%20finden%2C%20sehr%20gerne%20unterst%C3%BCtzen%20und%20die%20den
 %20Namen%20Challenge%20auch%20verdient.%20Denn%20einfach%20ist%20sie%20au
 f%20keinen%20Fall%21%3C%2Fp%3E%0A%0A%0A%0A%3Cp%3EEine%20Woche%20lang%20nu
 r%20Produkte%20aus%20einem%20%3Cstrong%3EUmkreis%20von%2050%20km%3C%2Fstr
 ong%3E%20zu%20verwenden%2C%20ist%20bei%20genauerer%20Betrachtung%20ganz%2
 0sch%C3%B6n%20herausfordernd.%20Es%20geht%20n%C3%A4mlich%20nicht%20darum%
 2C%20dass%20die%20Lebensmittel%20hier%20gekauft%20werden%2C%20sondern%20a
 uch%20hier%20angebaut%20wurden.%3C%2Fp%3E%0A%0A%0A%0A%3Cp%3EWir%20m%C3%B6
 chten%20Sie%20an%20diesem%20Samstag%20bekochen%20und%20damit%20%E2%80%9Ee
 inmal%20mehr%20Gedanken%20machen%E2%80%9C%20abnehmen.%3C%2Fp%3E%0A%0A%0A%
 0A%3Cp%3E%3Cstrong%3EKommen%20Sie%20am%2030.09.23%20ab%2017%20Uhr%20zum%2
 0Sieben%C3%A4ckerhof%20in%20Niederwerrn%20und%20lassen%20Sie%20es%20sich%
 20einfach%20schmecken%21%3C%2Fstrong%3E%3C%2Fp%3E%0A%0A%0A%0A%3Cp%3EMit%2
 0dabei%3A%3C%2Fp%3E%0A%0A%0A%0A%3Cp%3E%3Cstrong%3EPaul%20Knoblach%3C%2Fst
 rong%3E%2C%20Direktkandidat%20Landtagswahl%3C%2Fp%3E%0A%0A%0A%0A%3Cp%3E%3
 Cstrong%3EBirgit%20Schmitt%3C%2Fstrong%3E%2C%20Direktkandidatin%20Bezirks
 tagswahl%3C%2Fp%3E%0A%0A%0A%0A%3Cp%3E%3Cstrong%3EStefan%20Memmel%3C%2Fstr
 ong%3E%2C%20Listenkandidat%20Bezirkstagswahl%3C%2Fp%3E%0A%0A%0A%0A%3Cp%3E
 P.S.%3A%20Unter%20dem%20Link%20%3Ca%20href%3D%22http%3A%2F%2Fregiopluscha
 llenge.com%22%20target%3D%22_blank%22%20rel%3D%22noreferrer%20noopener%22
 %3Eregiopluschallenge.com%3C%2Fa%3E%20bekommen%20Sie%20Informationen%20un
 d%20das%20Begleitprogramm.%3C%2Fp%3E%0A":Bei der Regioplus-Challenge hand
 elt es sich um eine Aktion der Öko-Modellregion Oberes Werntal\, die wir
  richtig gut finden\, sehr gerne unterstützen und die den Namen Challeng
 e auch verdient. Denn einfach ist sie auf keinen Fall!\n\nEine Woche lang
  nur Produkte aus einem Umkreis von 50 km zu verwenden\, ist bei genauere
 r Betrachtung ganz schön herausfordernd. Es geht nämlich nicht darum\, 
 dass die Lebensmittel hier gekauft werden\, sondern auch hier angebaut wu
 rden.\n\nWir möchten Sie an diesem Samstag bekochen und damit „einmal 
 mehr Gedanken machen“ abnehmen.\n\nKommen Sie am 30.09.23 ab 17 Uhr zum
  Siebenäckerhof in Niederwerrn und lassen Sie es sich einfach schmecken!
 \n\nMit dabei:\n\nPaul Knoblach\, Direktkandidat Landtagswahl\n\nBirgit S
 chmitt\, Direktkandidatin Bezirkstagswahl\n\nStefan Memmel\, Listenkandid
 at Bezirkstagswahl\n\nP.S.: Unter dem Link regiopluschallenge.com bekomme
 n Sie Informationen und das Begleitprogramm.
CLASS:PUBLIC
DTSTART;TZID=Europe/Berlin:20230930T170000
DTEND;TZID=Europe/Berlin:20230930T210000
DTSTAMP:20260424T004312
END:VEVENT
END:VCALENDAR